Workbook

Sheet 請求一覧
A1: 請求日 | B1: 請求書番号 | C1: 請求先 | D1: 件名 | E1: 税抜金額（10%対象） | F1: 税抜金額（8%対象） | G1: 消費税（10%） | H1: 消費税（8%） | I1: 合計（税込） | J1: 入金予定日 | K1: 入金日 | L1: 状態
A2: 46265 | B2: 2026-0001 | C2: 株式会社サンプル商事 | D2: Webサイト保守 8月分 | E2: 30000 | G2: =IF(E2="","",ROUNDDOWN(E2*10/100,0)) | H2: =IF(F2="","",ROUNDDOWN(F2*8/100,0)) | I2: =IF(AND(E2="",F2=""),"",SUM(E2:H2)) | J2: 46295 | K2: 46294 | L2: =IF(I2="","",IF(K2<>"","入金済",IF(J2="","予定日なし",IF(J2<TODAY(),"期限超過","入金待ち"))))
A3: 46310 | B3: 2026-0002 | C3: 合同会社見本フーズ | D3: バナー制作・業務用コーヒー豆 10月分 | E3: 15000 | F3: 7000 | G3: =IF(E3="","",ROUNDDOWN(E3*10/100,0)) | H3: =IF(F3="","",ROUNDDOWN(F3*8/100,0)) | I3: =IF(AND(E3="",F3=""),"",SUM(E3:H3)) | J3: 46356 | L3: =IF(I3="","",IF(K3<>"","入金済",IF(J3="","予定日なし",IF(J3<TODAY(),"期限超過","入金待ち"))))
G4: =IF(E4="","",ROUNDDOWN(E4*10/100,0)) | H4: =IF(F4="","",ROUNDDOWN(F4*8/100,0)) | I4: =IF(AND(E4="",F4=""),"",SUM(E4:H4)) | L4: =IF(I4="","",IF(K4<>"","入金済",IF(J4="","予定日なし",IF(J4<TODAY(),"期限超過","入金待ち"))))
G5: =IF(E5="","",ROUNDDOWN(E5*10/100,0)) | H5: =IF(F5="","",ROUNDDOWN(F5*8/100,0)) | I5: =IF(AND(E5="",F5=""),"",SUM(E5:H5)) | L5: =IF(I5="","",IF(K5<>"","入金済",IF(J5="","予定日なし",IF(J5<TODAY(),"期限超過","入金待ち"))))
G6: =IF(E6="","",ROUNDDOWN(E6*10/100,0)) | H6: =IF(F6="","",ROUNDDOWN(F6*8/100,0)) | I6: =IF(AND(E6="",F6=""),"",SUM(E6:H6)) | L6: =IF(I6="","",IF(K6<>"","入金済",IF(J6="","予定日なし",IF(J6<TODAY(),"期限超過","入金待ち"))))
G7: =IF(E7="","",ROUNDDOWN(E7*10/100,0)) | H7: =IF(F7="","",ROUNDDOWN(F7*8/100,0)) | I7: =IF(AND(E7="",F7=""),"",SUM(E7:H7)) | L7: =IF(I7="","",IF(K7<>"","入金済",IF(J7="","予定日なし",IF(J7<TODAY(),"期限超過","入金待ち"))))
G8: =IF(E8="","",ROUNDDOWN(E8*10/100,0)) | H8: =IF(F8="","",ROUNDDOWN(F8*8/100,0)) | I8: =IF(AND(E8="",F8=""),"",SUM(E8:H8)) | L8: =IF(I8="","",IF(K8<>"","入金済",IF(J8="","予定日なし",IF(J8<TODAY(),"期限超過","入金待ち"))))
G9: =IF(E9="","",ROUNDDOWN(E9*10/100,0)) | H9: =IF(F9="","",ROUNDDOWN(F9*8/100,0)) | I9: =IF(AND(E9="",F9=""),"",SUM(E9:H9)) | L9: =IF(I9="","",IF(K9<>"","入金済",IF(J9="","予定日なし",IF(J9<TODAY(),"期限超過","入金待ち"))))
G10: =IF(E10="","",ROUNDDOWN(E10*10/100,0)) | H10: =IF(F10="","",ROUNDDOWN(F10*8/100,0)) | I10: =IF(AND(E10="",F10=""),"",SUM(E10:H10)) | L10: =IF(I10="","",IF(K10<>"","入金済",IF(J10="","予定日なし",IF(J10<TODAY(),"期限超過","入金待ち"))))
G11: =IF(E11="","",ROUNDDOWN(E11*10/100,0)) | H11: =IF(F11="","",ROUNDDOWN(F11*8/100,0)) | I11: =IF(AND(E11="",F11=""),"",SUM(E11:H11)) | L11: =IF(I11="","",IF(K11<>"","入金済",IF(J11="","予定日なし",IF(J11<TODAY(),"期限超過","入金待ち"))))
G12: =IF(E12="","",ROUNDDOWN(E12*10/100,0)) | H12: =IF(F12="","",ROUNDDOWN(F12*8/100,0)) | I12: =IF(AND(E12="",F12=""),"",SUM(E12:H12)) | L12: =IF(I12="","",IF(K12<>"","入金済",IF(J12="","予定日なし",IF(J12<TODAY(),"期限超過","入金待ち"))))
G13: =IF(E13="","",ROUNDDOWN(E13*10/100,0)) | H13: =IF(F13="","",ROUNDDOWN(F13*8/100,0)) | I13: =IF(AND(E13="",F13=""),"",SUM(E13:H13)) | L13: =IF(I13="","",IF(K13<>"","入金済",IF(J13="","予定日なし",IF(J13<TODAY(),"期限超過","入金待ち"))))
G14: =IF(E14="","",ROUNDDOWN(E14*10/100,0)) | H14: =IF(F14="","",ROUNDDOWN(F14*8/100,0)) | I14: =IF(AND(E14="",F14=""),"",SUM(E14:H14)) | L14: =IF(I14="","",IF(K14<>"","入金済",IF(J14="","予定日なし",IF(J14<TODAY(),"期限超過","入金待ち"))))
G15: =IF(E15="","",ROUNDDOWN(E15*10/100,0)) | H15: =IF(F15="","",ROUNDDOWN(F15*8/100,0)) | I15: =IF(AND(E15="",F15=""),"",SUM(E15:H15)) | L15: =IF(I15="","",IF(K15<>"","入金済",IF(J15="","予定日なし",IF(J15<TODAY(),"期限超過","入金待ち"))))
... G301: =IF(E301="","",ROUNDDOWN(E301*10/100,0)) | H301: =IF(F301="","",ROUNDDOWN(F301*8/100,0)) | I301: =IF(AND(E301="",F301=""),"",SUM(E301:H301)) | L301: =IF(I301="","",IF(K301<>"","入金済",IF(J301="","予定日なし",IF(J301<TODAY(),"期限超過","入金待ち"))))

Sheet 集計
A1: 請求の集計
A3: 請求の合計（税込） | B3: =SUM(請求一覧!$I$2:$I$301)
A4: 入金済みの合計 | B4: =SUMIFS(請求一覧!$I$2:$I$301,請求一覧!$L$2:$L$301,"入金済") | C4: 「未入金の合計」は入金待ち・期限超過・予定日なしの合計です。
A5: 未入金の合計 | B5: =SUMIFS(請求一覧!$I$2:$I$301,請求一覧!$L$2:$L$301,"<>入金済")
A6: 期限超過の件数 | B6: =COUNTIF(請求一覧!$L$2:$L$301,"期限超過")
A7: 期限超過の金額 | B7: =SUMIFS(請求一覧!$I$2:$I$301,請求一覧!$L$2:$L$301,"期限超過")
A10: 月別（請求日で集計）
A11: 集計する年 | B11: 2026 | C11: ← 年を変えると下の表が変わります
A13: 月 | B13: 税抜（10%対象） | C13: 税抜（8%対象） | D13: 消費税（10%） | E13: 消費税（8%） | F13: 合計（税込） | G13: 件数
A14: 1月 | B14: =SUMIFS(請求一覧!$E$2:$E$301,請求一覧!$A$2:$A$301,">="&DATE($B$11,1,1),請求一覧!$A$2:$A$301,"<"&DATE($B$11,1+1,1)) | C14: =SUMIFS(請求一覧!$F$2:$F$301,請求一覧!$A$2:$A$301,">="&DATE($B$11,1,1),請求一覧!$A$2:$A$301,"<"&DATE($B$11,1+1,1)) | D14: =SUMIFS(請求一覧!$G$2:$G$301,請求一覧!$A$2:$A$301,">="&DATE($B$11,1,1),請求一覧!$A$2:$A$301,"<"&DATE($B$11,1+1,1)) | E14: =SUMIFS(請求一覧!$H$2:$H$301,請求一覧!$A$2:$A$301,">="&DATE($B$11,1,1),請求一覧!$A$2:$A$301,"<"&DATE($B$11,1+1,1)) | F14: =SUMIFS(請求一覧!$I$2:$I$301,請求一覧!$A$2:$A$301,">="&DATE($B$11,1,1),請求一覧!$A$2:$A$301,"<"&DATE($B$11,1+1,1)) | G14: =COUNTIFS(請求一覧!$A$2:$A$301,">="&DATE($B$11,1,1),請求一覧!$A$2:$A$301,"<"&DATE($B$11,1+1,1))
A15: 2月 | B15: =SUMIFS(請求一覧!$E$2:$E$301,請求一覧!$A$2:$A$301,">="&DATE($B$11,2,1),請求一覧!$A$2:$A$301,"<"&DATE($B$11,2+1,1)) | C15: =SUMIFS(請求一覧!$F$2:$F$301,請求一覧!$A$2:$A$301,">="&DATE($B$11,2,1),請求一覧!$A$2:$A$301,"<"&DATE($B$11,2+1,1)) | D15: =SUMIFS(請求一覧!$G$2:$G$301,請求一覧!$A$2:$A$301,">="&DATE($B$11,2,1),請求一覧!$A$2:$A$301,"<"&DATE($B$11,2+1,1)) | E15: =SUMIFS(請求一覧!$H$2:$H$301,請求一覧!$A$2:$A$301,">="&DATE($B$11,2,1),請求一覧!$A$2:$A$301,"<"&DATE($B$11,2+1,1)) | F15: =SUMIFS(請求一覧!$I$2:$I$301,請求一覧!$A$2:$A$301,">="&DATE($B$11,2,1),請求一覧!$A$2:$A$301,"<"&DATE($B$11,2+1,1)) | G15: =COUNTIFS(請求一覧!$A$2:$A$301,">="&DATE($B$11,2,1),請求一覧!$A$2:$A$301,"<"&DATE($B$11,2+1,1))
A16: 3月 | B16: =SUMIFS(請求一覧!$E$2:$E$301,請求一覧!$A$2:$A$301,">="&DATE($B$11,3,1),請求一覧!$A$2:$A$301,"<"&DATE($B$11,3+1,1)) | C16: =SUMIFS(請求一覧!$F$2:$F$301,請求一覧!$A$2:$A$301,">="&DATE($B$11,3,1),請求一覧!$A$2:$A$301,"<"&DATE($B$11,3+1,1)) | D16: =SUMIFS(請求一覧!$G$2:$G$301,請求一覧!$A$2:$A$301,">="&DATE($B$11,3,1),請求一覧!$A$2:$A$301,"<"&DATE($B$11,3+1,1)) | E16: =SUMIFS(請求一覧!$H$2:$H$301,請求一覧!$A$2:$A$301,">="&DATE($B$11,3,1),請求一覧!$A$2:$A$301,"<"&DATE($B$11,3+1,1)) | F16: =SUMIFS(請求一覧!$I$2:$I$301,請求一覧!$A$2:$A$301,">="&DATE($B$11,3,1),請求一覧!$A$2:$A$301,"<"&DATE($B$11,3+1,1)) | G16: =COUNTIFS(請求一覧!$A$2:$A$301,">="&DATE($B$11,3,1),請求一覧!$A$2:$A$301,"<"&DATE($B$11,3+1,1))
A17: 4月 | B17: =SUMIFS(請求一覧!$E$2:$E$301,請求一覧!$A$2:$A$301,">="&DATE($B$11,4,1),請求一覧!$A$2:$A$301,"<"&DATE($B$11,4+1,1)) | C17: =SUMIFS(請求一覧!$F$2:$F$301,請求一覧!$A$2:$A$301,">="&DATE($B$11,4,1),請求一覧!$A$2:$A$301,"<"&DATE($B$11,4+1,1)) | D17: =SUMIFS(請求一覧!$G$2:$G$301,請求一覧!$A$2:$A$301,">="&DATE($B$11,4,1),請求一覧!$A$2:$A$301,"<"&DATE($B$11,4+1,1)) | E17: =SUMIFS(請求一覧!$H$2:$H$301,請求一覧!$A$2:$A$301,">="&DATE($B$11,4,1),請求一覧!$A$2:$A$301,"<"&DATE($B$11,4+1,1)) | F17: =SUMIFS(請求一覧!$I$2:$I$301,請求一覧!$A$2:$A$301,">="&DATE($B$11,4,1),請求一覧!$A$2:$A$301,"<"&DATE($B$11,4+1,1)) | G17: =COUNTIFS(請求一覧!$A$2:$A$301,">="&DATE($B$11,4,1),請求一覧!$A$2:$A$301,"<"&DATE($B$11,4+1,1))
A18: 5月 | B18: =SUMIFS(請求一覧!$E$2:$E$301,請求一覧!$A$2:$A$301,">="&DATE($B$11,5,1),請求一覧!$A$2:$A$301,"<"&DATE($B$11,5+1,1)) | C18: =SUMIFS(請求一覧!$F$2:$F$301,請求一覧!$A$2:$A$301,">="&DATE($B$11,5,1),請求一覧!$A$2:$A$301,"<"&DATE($B$11,5+1,1)) | D18: =SUMIFS(請求一覧!$G$2:$G$301,請求一覧!$A$2:$A$301,">="&DATE($B$11,5,1),請求一覧!$A$2:$A$301,"<"&DATE($B$11,5+1,1)) | E18: =SUMIFS(請求一覧!$H$2:$H$301,請求一覧!$A$2:$A$301,">="&DATE($B$11,5,1),請求一覧!$A$2:$A$301,"<"&DATE($B$11,5+1,1)) | F18: =SUMIFS(請求一覧!$I$2:$I$301,請求一覧!$A$2:$A$301,">="&DATE($B$11,5,1),請求一覧!$A$2:$A$301,"<"&DATE($B$11,5+1,1)) | G18: =COUNTIFS(請求一覧!$A$2:$A$301,">="&DATE($B$11,5,1),請求一覧!$A$2:$A$301,"<"&DATE($B$11,5+1,1))
A19: 6月 | B19: =SUMIFS(請求一覧!$E$2:$E$301,請求一覧!$A$2:$A$301,">="&DATE($B$11,6,1),請求一覧!$A$2:$A$301,"<"&DATE($B$11,6+1,1)) | C19: =SUMIFS(請求一覧!$F$2:$F$301,請求一覧!$A$2:$A$301,">="&DATE($B$11,6,1),請求一覧!$A$2:$A$301,"<"&DATE($B$11,6+1,1)) | D19: =SUMIFS(請求一覧!$G$2:$G$301,請求一覧!$A$2:$A$301,">="&DATE($B$11,6,1),請求一覧!$A$2:$A$301,"<"&DATE($B$11,6+1,1)) | E19: =SUMIFS(請求一覧!$H$2:$H$301,請求一覧!$A$2:$A$301,">="&DATE($B$11,6,1),請求一覧!$A$2:$A$301,"<"&DATE($B$11,6+1,1)) | F19: =SUMIFS(請求一覧!$I$2:$I$301,請求一覧!$A$2:$A$301,">="&DATE($B$11,6,1),請求一覧!$A$2:$A$301,"<"&DATE($B$11,6+1,1)) | G19: =COUNTIFS(請求一覧!$A$2:$A$301,">="&DATE($B$11,6,1),請求一覧!$A$2:$A$301,"<"&DATE($B$11,6+1,1))
A20: 7月 | B20: =SUMIFS(請求一覧!$E$2:$E$301,請求一覧!$A$2:$A$301,">="&DATE($B$11,7,1),請求一覧!$A$2:$A$301,"<"&DATE($B$11,7+1,1)) | C20: =SUMIFS(請求一覧!$F$2:$F$301,請求一覧!$A$2:$A$301,">="&DATE($B$11,7,1),請求一覧!$A$2:$A$301,"<"&DATE($B$11,7+1,1)) | D20: =SUMIFS(請求一覧!$G$2:$G$301,請求一覧!$A$2:$A$301,">="&DATE($B$11,7,1),請求一覧!$A$2:$A$301,"<"&DATE($B$11,7+1,1)) | E20: =SUMIFS(請求一覧!$H$2:$H$301,請求一覧!$A$2:$A$301,">="&DATE($B$11,7,1),請求一覧!$A$2:$A$301,"<"&DATE($B$11,7+1,1)) | F20: =SUMIFS(請求一覧!$I$2:$I$301,請求一覧!$A$2:$A$301,">="&DATE($B$11,7,1),請求一覧!$A$2:$A$301,"<"&DATE($B$11,7+1,1)) | G20: =COUNTIFS(請求一覧!$A$2:$A$301,">="&DATE($B$11,7,1),請求一覧!$A$2:$A$301,"<"&DATE($B$11,7+1,1))
A21: 8月 | B21: =SUMIFS(請求一覧!$E$2:$E$301,請求一覧!$A$2:$A$301,">="&DATE($B$11,8,1),請求一覧!$A$2:$A$301,"<"&DATE($B$11,8+1,1)) | C21: =SUMIFS(請求一覧!$F$2:$F$301,請求一覧!$A$2:$A$301,">="&DATE($B$11,8,1),請求一覧!$A$2:$A$301,"<"&DATE($B$11,8+1,1)) | D21: =SUMIFS(請求一覧!$G$2:$G$301,請求一覧!$A$2:$A$301,">="&DATE($B$11,8,1),請求一覧!$A$2:$A$301,"<"&DATE($B$11,8+1,1)) | E21: =SUMIFS(請求一覧!$H$2:$H$301,請求一覧!$A$2:$A$301,">="&DATE($B$11,8,1),請求一覧!$A$2:$A$301,"<"&DATE($B$11,8+1,1)) | F21: =SUMIFS(請求一覧!$I$2:$I$301,請求一覧!$A$2:$A$301,">="&DATE($B$11,8,1),請求一覧!$A$2:$A$301,"<"&DATE($B$11,8+1,1)) | G21: =COUNTIFS(請求一覧!$A$2:$A$301,">="&DATE($B$11,8,1),請求一覧!$A$2:$A$301,"<"&DATE($B$11,8+1,1))
A22: 9月 | B22: =SUMIFS(請求一覧!$E$2:$E$301,請求一覧!$A$2:$A$301,">="&DATE($B$11,9,1),請求一覧!$A$2:$A$301,"<"&DATE($B$11,9+1,1)) | C22: =SUMIFS(請求一覧!$F$2:$F$301,請求一覧!$A$2:$A$301,">="&DATE($B$11,9,1),請求一覧!$A$2:$A$301,"<"&DATE($B$11,9+1,1)) | D22: =SUMIFS(請求一覧!$G$2:$G$301,請求一覧!$A$2:$A$301,">="&DATE($B$11,9,1),請求一覧!$A$2:$A$301,"<"&DATE($B$11,9+1,1)) | E22: =SUMIFS(請求一覧!$H$2:$H$301,請求一覧!$A$2:$A$301,">="&DATE($B$11,9,1),請求一覧!$A$2:$A$301,"<"&DATE($B$11,9+1,1)) | F22: =SUMIFS(請求一覧!$I$2:$I$301,請求一覧!$A$2:$A$301,">="&DATE($B$11,9,1),請求一覧!$A$2:$A$301,"<"&DATE($B$11,9+1,1)) | G22: =COUNTIFS(請求一覧!$A$2:$A$301,">="&DATE($B$11,9,1),請求一覧!$A$2:$A$301,"<"&DATE($B$11,9+1,1))
A23: 10月 | B23: =SUMIFS(請求一覧!$E$2:$E$301,請求一覧!$A$2:$A$301,">="&DATE($B$11,10,1),請求一覧!$A$2:$A$301,"<"&DATE($B$11,10+1,1)) | C23: =SUMIFS(請求一覧!$F$2:$F$301,請求一覧!$A$2:$A$301,">="&DATE($B$11,10,1),請求一覧!$A$2:$A$301,"<"&DATE($B$11,10+1,1)) | D23: =SUMIFS(請求一覧!$G$2:$G$301,請求一覧!$A$2:$A$301,">="&DATE($B$11,10,1),請求一覧!$A$2:$A$301,"<"&DATE($B$11,10+1,1)) | E23: =SUMIFS(請求一覧!$H$2:$H$301,請求一覧!$A$2:$A$301,">="&DATE($B$11,10,1),請求一覧!$A$2:$A$301,"<"&DATE($B$11,10+1,1)) | F23: =SUMIFS(請求一覧!$I$2:$I$301,請求一覧!$A$2:$A$301,">="&DATE($B$11,10,1),請求一覧!$A$2:$A$301,"<"&DATE($B$11,10+1,1)) | G23: =COUNTIFS(請求一覧!$A$2:$A$301,">="&DATE($B$11,10,1),請求一覧!$A$2:$A$301,"<"&DATE($B$11,10+1,1))
A24: 11月 | B24: =SUMIFS(請求一覧!$E$2:$E$301,請求一覧!$A$2:$A$301,">="&DATE($B$11,11,1),請求一覧!$A$2:$A$301,"<"&DATE($B$11,11+1,1)) | C24: =SUMIFS(請求一覧!$F$2:$F$301,請求一覧!$A$2:$A$301,">="&DATE($B$11,11,1),請求一覧!$A$2:$A$301,"<"&DATE($B$11,11+1,1)) | D24: =SUMIFS(請求一覧!$G$2:$G$301,請求一覧!$A$2:$A$301,">="&DATE($B$11,11,1),請求一覧!$A$2:$A$301,"<"&DATE($B$11,11+1,1)) | E24: =SUMIFS(請求一覧!$H$2:$H$301,請求一覧!$A$2:$A$301,">="&DATE($B$11,11,1),請求一覧!$A$2:$A$301,"<"&DATE($B$11,11+1,1)) | F24: =SUMIFS(請求一覧!$I$2:$I$301,請求一覧!$A$2:$A$301,">="&DATE($B$11,11,1),請求一覧!$A$2:$A$301,"<"&DATE($B$11,11+1,1)) | G24: =COUNTIFS(請求一覧!$A$2:$A$301,">="&DATE($B$11,11,1),請求一覧!$A$2:$A$301,"<"&DATE($B$11,11+1,1))
A25: 12月 | B25: =SUMIFS(請求一覧!$E$2:$E$301,請求一覧!$A$2:$A$301,">="&DATE($B$11,12,1),請求一覧!$A$2:$A$301,"<"&DATE($B$11,12+1,1)) | C25: =SUMIFS(請求一覧!$F$2:$F$301,請求一覧!$A$2:$A$301,">="&DATE($B$11,12,1),請求一覧!$A$2:$A$301,"<"&DATE($B$11,12+1,1)) | D25: =SUMIFS(請求一覧!$G$2:$G$301,請求一覧!$A$2:$A$301,">="&DATE($B$11,12,1),請求一覧!$A$2:$A$301,"<"&DATE($B$11,12+1,1)) | E25: =SUMIFS(請求一覧!$H$2:$H$301,請求一覧!$A$2:$A$301,">="&DATE($B$11,12,1),請求一覧!$A$2:$A$301,"<"&DATE($B$11,12+1,1)) | F25: =SUMIFS(請求一覧!$I$2:$I$301,請求一覧!$A$2:$A$301,">="&DATE($B$11,12,1),請求一覧!$A$2:$A$301,"<"&DATE($B$11,12+1,1)) | G25: =COUNTIFS(請求一覧!$A$2:$A$301,">="&DATE($B$11,12,1),請求一覧!$A$2:$A$301,"<"&DATE($B$11,12+1,1))
A26: 年間合計 | B26: =SUM(B14:B25) | C26: =SUM(C14:C25) | D26: =SUM(D14:D25) | E26: =SUM(E14:E25) | F26: =SUM(F14:F25) | G26: =SUM(G14:G25)

Sheet 使い方
A1: 使い方（請求書の発行管理表）
A3: ■ このファイルでできること
A4: 発行した請求書を1枚1行で記録し、消費税（10%・8%別）と合計、入金の状態を自動で出す管理表です。入金予定日を過ぎても入金日が空の行は赤く表示されます。
A6: ■ 入れ方（白い欄だけ入力します）
A7: 1. 2行目と3行目の黄色い行は見本です。上書きするか、行ごと削除してから使ってください。
A8: 2. 「請求日」「請求書番号」「請求先」「件名」を入れます。日付は 2026/10/31 のように入れます。
A9: 3. 「税抜金額（10%対象）」「税抜金額（8%対象）」に、その請求書の税率ごとの税抜合計を入れます。8%（軽減税率）の品目がなければ空のままで構いません。
A10: 4. 「入金予定日」を入れ、入金を確認したら「入金日」を入れます。
A12: ■ 自動で計算される欄（薄い青の欄・入力しません）
A13: 消費税（10%）＝ 税抜金額（10%対象）× 10% の1円未満を切り捨て
A14: 消費税（8%） ＝ 税抜金額（8%対象）× 8% の1円未満を切り捨て
A15: 合計（税込）＝ 税抜金額と消費税の合計
... A31: 税率や記載事項の最新の扱いは、国税庁の案内で確認してください。
